Workbook
Name SegmentaciónDeDatos_Constructora_2: #N/A
Name SegmentaciónDeDatos_Nombre_del_Proyecto: #N/A
Name SegmentaciónDeDatos_Sala_de_Ventas_: #N/A

Sheet Menú 

Sheet Generalidad del Servicio

Sheet Detalle del cumplimiento 
G11: CUMPLIMEINTO GENERAL DEL SERVICIO | K11: =AVERAGE(E14,K14,Q14,Q23,E23,K23) -> 0.34722806
B14: SALUDO Y PRESENTACIÓN | E14: =IFERROR(AVERAGEIF(G16:G21,">0"),0) -> 0.75000167 | F14: =IFERROR(Tablas!J48,0) -> 0.25 | H14: INDAGACIÓN Y TOMA DE HABEAS DATA | K14: =IFERROR(AVERAGEIF(M16:M21,">0"),0) -> 0.50000333 | L14: =IFERROR(Tablas!J94,0) -> 0.5 | N14: PERFILAMIENTO DEL CLIENTE | Q14: =IFERROR(AVERAGEIF(S16:S21,">0"),0) -> 1e-05 | R14: =IFERROR(Tablas!J133,0) -> 1
B16: =Tablas!A46 -> 1¿El saludo fue amigable y profesional? Muy buenos días/tardes, según sea el caso. | E16: =IFERROR(Tablas!H47,0) -> 1 | F16: =IFERROR(Tablas!H48,0) -> 0 | G16: =IF(AND(E16>0,F16>=0),E16,IF(AND(F16>0,E16<=0),0.00001,0)) -> 1 | H16: =Tablas!A92 -> 8¿Se indaga adecuadamente sobre las expectativas y conocimiento del cliente de los proyectos? | K16: =IFERROR(Tablas!H93,0) -> 0 | L16: =IFERROR(Tablas!H94,0) -> 1 | M16: =IF(AND(K16>0,L16>=0),K16,IF(AND(L16>0,K16<=0),0.00001,0)) -> 1e-05 | N16: =Tablas!A133 -> 11¿Se realizó una indagación efectiva sobre las necesidades y características que busca en un inmueble? | Q16: =IFERROR(Tablas!H133,0) -> 0 | R16: =IFERROR(Tablas!H134,0) -> 1 | S16: =IF(AND(Q16>0,R16>=0),Q16,IF(AND(R16>0,Q16<=0),0.00001,0)) -> 1e-05
B17: =Tablas!A51 -> 2 ¿Se presenta con su nombre y en nombre de la empresa? | E17: =IFERROR(Tablas!H52,0) -> 0.5 | F17: =IFERROR(Tablas!H53,0) -> 0.5 | G17: =IF(AND(E17>0,F17>=0),E17,IF(AND(F17>0,E17<=0),0.00001,0)) -> 0.5 | H17: =Tablas!A98 -> 9¿Explica y solicita correctamente el proceso de toma de habeas data? | K17: =IFERROR(Tablas!H99,0) -> 0.5 | L17: =IFERROR(Tablas!H100,0) -> 0.5 | M17: =IF(AND(K17>0,L17>=0),K17,IF(AND(L17>0,K17<=0),0.00001,0)) -> 0.5 | S17: =IF(AND(Q17>0,R17>=0),Q17,IF(AND(R17>0,Q17<=0),0.00001,0)) -> 0
B18: =Tablas!A57 -> 3¿El asesor mantiene una buena presentación personal, usando su uniforme limpio y planchado? | E18: =IFERROR(Tablas!H58,0) -> 1 | F18: =IFERROR(Tablas!H59,0) -> 0 | G18: =IF(AND(E18>0,F18>=0),E18,IF(AND(F18>0,E18<=0),0.00001,0)) -> 1 | H18: =Tablas!A104 -> 10¿Hace alguna confirmación y ampliación de solicitud de datos personales del cliente? | K18: =IFERROR(Tablas!H105,0) -> 1 | L18: =IFERROR(Tablas!H106,0) -> 0 | M18: =IF(AND(K18>0,L18>=0),K18,IF(AND(L18>0,K18<=0),0.00001,0)) -> 1 | S18: =IF(AND(Q18>0,R18>=0),Q18,IF(AND(R18>0,Q18<=0),0.00001,0)) -> 0
B19: =Tablas!A62 -> 4¿Solicita conocer su nombre? | E19: =IFERROR(Tablas!H63,0) -> 1 | F19: =IFERROR(Tablas!H64,0) -> 0 | G19: =IF(AND(E19>0,F19>=0),E19,IF(AND(F19>0,E19<=0),0.00001,0)) -> 1 | M19: =IF(AND(K19>0,L19>=0),K19,IF(AND(L19>0,K19<=0),0.00001,0)) -> 0 | S19: =IF(AND(Q19>0,R19>=0),Q19,IF(AND(R19>0,Q19<=0),0.00001,0)) -> 0
B20: =Tablas!A68 -> 5¿Se invita al cliente a tomar asiento de manera cortés? | E20: =IFERROR(Tablas!H69,0) -> 1 | F20: =IFERROR(Tablas!H70,0) -> 0 | G20: =IF(AND(E20>0,F20>=0),E20,IF(AND(F20>0,E20<=0),0.00001,0)) -> 1 | M20: =IF(AND(K20>0,L20>=0),K20,IF(AND(L20>0,K20<=0),0.00001,0)) -> 0 | S20: =IF(AND(Q20>0,R20>=0),Q20,IF(AND(R20>0,Q20<=0),0.00001,0)) -> 0
B21: =Tablas!A74 -> 6¿Se utilizó alguna frase de halago durante el saludo? | E21: =IFERROR(Tablas!H74,0) -> 0 | F21: =IFERROR(Tablas!H75,0) -> 1 | G21: =IF(AND(E21>0,F21>=0),E21,IF(AND(F21>0,E21<=0),0.00001,0)) -> 1e-05 | M21: =IF(AND(K21>0,L21>=0),K21,IF(AND(L21>0,K21<=0),0.00001,0)) -> 0 | S21: =IF(AND(Q21>0,R21>=0),Q21,IF(AND(R21>0,Q21<=0),0.00001,0)) -> 0
B23: ASESORIA Y PRESENTACIÓN DEL PROYECTO | E23: =IFERROR(AVERAGEIF(G25:G30,">0"),0) -> 0.33334 | F23: =IFERROR(Tablas!J161,0) -> 0.66666667 | H23: GESTIÓN DEL CRÉDITO | K23: =IFERROR(AVERAGEIF(M25:M30,">0"),0) -> 1e-05 | L23: =IFERROR(Tablas!J196,0) -> 1 | N23: FACTORES GENERALES DE LA ATENCIÓN | Q23: =IFERROR(AVERAGEIF(S25:S30,">0"),0) -> 0.50000333 | R23: =IFERROR(Tablas!J220,0) -> 0.5
B25: =Tablas!A160 -> 13 ¿Se presentó el proyecto de forma clara y detallada? | E25: =IFERROR(Tablas!H161,) -> 0 | F25: =IFERROR(Tablas!H162,0) -> 1 | G25: =IF(AND(E25>0,F25>=0),E25,IF(AND(F25>0,E25<=0),0.00001,0)) -> 1e-05 | H25: =Tablas!A195 -> 16 ¿Se solicitó la documentación necesaria para la gestión del crédito? | K25: =IFERROR(Tablas!H196,0) -> 0 | L25: =IFERROR(Tablas!H197,0) -> 1 | M25: =IF(AND(K25>0,L25>=0),K25,IF(AND(L25>0,K25<=0),0.00001,0)) -> 1e-05 | N25: =Tablas!A219 -> 18¿Se despidió al cliente de manera cordial y profesional? | Q25: =IFERROR(Tablas!H220,0) -> 1 | R25: =IFERROR(Tablas!H221,0) -> 0 | S25: =IF(AND(Q25>0,R25>=0),Q25,IF(AND(R25>0,Q25<=0),0.00001,0)) -> 1
B26: =Tablas!A181 -> 14¿Se utilizaron herramientas visuales (modelo, maqueta, realidad aumentada) para la presentación? | E26: =IFERROR(Tablas!H182,0) -> 1 | F26: =IFERROR(Tablas!H183,0) -> 0 | G26: =IF(AND(E26>0,F26>=0),E26,IF(AND(F26>0,E26<=0),0.00001,0)) -> 1 | H26: =Tablas!A202 -> 16,1 Busca la viabilidad inmediata del crédito. Se deben solicitar los documentos necesarios para obtener la aprobación del crédito. | K26: =IFERROR(Tablas!H203,0) -> 0 | L26: =IFERROR(Tablas!H204,0) -> 1 | M26: =IF(AND(K26>0,L26>=0),K26,IF(AND(L26>0,K26<=0),0.00001,0)) -> 1e-05 | N26: =Tablas!A227 -> 19¿Recibió un resumen de la visita? | Q26: =IFERROR(Tablas!H228,0) -> 0.5 | R26: =IFERROR(Tablas!H229,0) -> 0.5 | S26: =IF(AND(Q26>0,R26>=0),Q26,IF(AND(R26>0,Q26<=0),0.00001,0)) -> 0.5
B27: =Tablas!A188 -> 15 ¿El asesor demuestra habilidades persuasivas que influyen en los clientes para que continúen con el proceso de compra? | E27: =IFERROR(Tablas!H189,0) -> 0 | F27: =IFERROR(Tablas!H190,0) -> 1 | G27: =IF(AND(E27>0,F27>=0),E27,IF(AND(F27>0,E27<=0),0.00001,0)) -> 1e-05 | M27: =IF(AND(K27>0,L27>=0),K27,IF(AND(L27>0,K27<=0),0.00001,0)) -> 0 | N27: =Tablas!A242 -> 21 ¿El asesor se mantiene en contacto visual con el cliente? | Q27: =IFERROR(Tablas!H243,0) -> 0 | R27: =IFERROR(Tablas!H244,0) -> 1 | S27: =IF(AND(Q27>0,R27>=0),Q27,IF(AND(R27>0,Q27<=0),0.00001,0)) -> 1e-05
G28: =IF(AND(E28>0,F28>=0),E28,IF(AND(F28>0,E28<=0),0.00001,0)) -> 0 | M28: =IF(AND(K28>0,L28>=0),K28,IF(AND(L28>0,K28<=0),0.00001,0)) -> 0 | N28: =Tablas!A250 -> 22 ¿Se mostró una actitud positiva y resolutiva durante la atención? | Q28: =IFERROR(Tablas!H251,0) -> 0 | R28: =IFERROR(Tablas!H252,0) -> 1 | S28: =IF(AND(Q28>0,R28>=0),Q28,IF(AND(R28>0,Q28<=0),0.00001,0)) -> 1e-05
G29: =IF(AND(E29>0,F29>=0),E29,IF(AND(F29>0,E29<=0),0.00001,0)) -> 0 | M29: =IF(AND(K29>0,L29>=0),K29,IF(AND(L29>0,K29<=0),0.00001,0)) -> 0 | N29: =Tablas!A256 -> 23 ¿Se ofreció alguna bebida al cliente durante la atención? | Q29: =IFERROR(Tablas!H257,0) -> 1 | R29: =IFERROR(Tablas!H258,0) -> 0 | S29: =IF(AND(Q29>0,R29>=0),Q29,IF(AND(R29>0,Q29<=0),0.00001,0)) -> 1
G30: =IF(AND(E30>0,F30>=0),E30,IF(AND(F30>0,E30<=0),0.00001,0)) -> 0 | M30: =IF(AND(K30>0,L30>=0),K30,IF(AND(L30>0,K30<=0),0.00001,0)) -> 0 | N30: =Tablas!A263 -> 24¿Recibió un contacto de seguimiento? | Q30: =IFERROR(Tablas!H264,0) -> 0.5 | R30: =IFERROR(Tablas!H265,0) -> 0.5 | S30: =IF(AND(Q30>0,R30>=0),Q30,IF(AND(R30>0,Q30<=0),0.00001,0)) -> 0.5

Sheet Indicadores
C19: Satisfechos | D19: =IFERROR(Tablas!G296,0) -> 0 | E19: =D19/$D$22 -> 0 | H19: Promotores | I19: =IFERROR(Tablas!G312,0) -> 0 | J19: =I19/$I$22 -> 0
C20: Indiferentes | D20: =IFERROR(Tablas!G297,0) -> 1 | E20: =D20/$D$22 -> 0.5 | H20: Neutrales | I20: =IFERROR(Tablas!G313,0) -> 1 | J20: =I20/$I$22 -> 0.5
C21: Insatisfechos | D21: =IFERROR(Tablas!G298,0) -> 1 | E21: =D21/$D$22 -> 0.5 | H21: Detractores | I21: =IFERROR(Tablas!G314,0) -> 1 | J21: =I21/$I$22 -> 0.5
C22: TOTAL | D22: =SUM(D19:D21) -> 2 | E22: =SUM(E19:E21) -> 1 | H22: TOTAL | I22: =SUM(I19:I21) -> 2 | J22: =SUM(J19:J21) -> 1
D26: =(D19/D22)*100 -> 0 | I26: =(J19-J21)*100 -> -50 | N26: =Tablas!E292 -> 1

Sheet Comparativo 
D8: Constructora Bolívar | E8: Habitare | F8: Jaramillo Mora | G8: JM Inmobiliaria | H8: M+d | I8: Melendez
C9: SALUDO Y PRESENTACIÓN | D9: 0.7 | E9: 0.7500025 | F9: 0.66666833 | G9: 0.7500025 | H9: 0.833335 | I9: 0.75
C10: INDAGACIÓN Y TOMA DE HABEAS DATA | D10: 0.7 | E10: 1e-05 | F10: 0.83333333 | G10: 0.33334 | H10: 1e-05 | I10: 0.50000333
C11: PERFILAMIENTO DEL CLIENTE | D11: 0.45 | E11: 1e-05 | F11: 1 | G11: 1e-05 | H11: 1e-05 | I11: 0.5
C12: ASESORIA Y PRESENTACIÓN DEL PROYECTO | D12: 0.71666667 | E12: 0.66667 | F12: 1 | G12: 1 | H12: 0.66667 | I12: 1
C13: GESTIÓN DEL CRÉDITO | D13: 0.45 | E13: 1e-05 | F13: 0.250005 | G13: 1e-05 | H13: 1e-05 | I13: 0.250005
C14: FACTORES GENERALES DE LA ATENCIÓN | D14: 0.62777944 | E14: 0.66667 | F14: 0.75000167 | G14: 0.66667 | H14: 0.833335 | I14: 0.66666833
C15: % CUMPLIMIENTO | D15: 0.60740769 | E15: 0.34722875 | F15: 0.75000139 | G15: 0.45833875 | H15: 0.388895 | I15: 0.61111278
C16: INDICADORES
C17: INDICADOR DE ESFUERZO | D17: 2.2727273 | E17: 5 | F17: 1 | G17: 4 | H17: 1 | I17: 1
C18: INDICADOR DE SATISFACCIÓN | D18: 60 | E18: 0 | F18: 100 | G18: 100 | H18: 100 | I18: 50
C19: INDICADOR DE PROMOCIÓN | D19: 45 | E19: 0 | F19: 100 | G19: 100 | H19: 100 | I19: 100

Sheet Comentarios del usuario 
B7: Constructora 2 | C7: Sala de Ventas | D7: ¿Hay algo que considere que se podría mejorar? | F7: Constructora 2 | G7: Sala de Ventas | H7: ¿Qué aspectos destacan de la atención brindada?
B8: Constructora Bolívar | C8: Sala Ciudad del Valle | D8: La atención por parte de los asesores e interés | F8: Constructora Bolívar | G8: Sala Ciudad del Valle | H8: Fue una atención muy cortante, la señora mostraba el proyecto por medio de diapositivas pero las cuales no se veía bien, lo cual le informe y su única respuesta es que no las había descargado bien. Se notaba que quería desocuparse rápido y no fue clara con la información como si lo han hecho en otras visitas
D9: Una mejor atención y mas amplia información, sin afanes. | H9: Sin Comentario

Sheet Base de datos
A1: Constructora | B1: Constructora 2 | C1: Sala de Ventas | D1: Nombre del Proyecto | E1: Nombre del asesor que lo atiende | F1: Municipio/Ciudad | G1: Tipo de Proyecto | H1: Medio de contacto | I1: 1¿El saludo fue amigable y profesional? Muy buenos días/tardes, según sea el caso. | J1: 2 ¿Se presenta con su nombre y en nombre de la empresa? | K1: 3¿El asesor mantiene una buena presentación personal, usando su uniforme limpio y planchado? | L1: 4¿Solicita conocer su nombre? | M1: 5¿Se invita al cliente a tomar asiento de manera cortés? | N1: 6¿Se utilizó alguna frase de halago durante el saludo? | O1: 7Si la respuesta es SI Indique Cuales (Respuesta de Selección Múltiple) | P1: 8¿Se indaga adecuadamente sobre las expectativas y conocimiento del cliente de los proyectos? (desea que revisemos a detalle el proyecto, proyecto de interés o prefiere que revisemos diferentes propues | Q1: 9¿Explica y solicita correctamente el proceso de toma de habeas data? | R1: 10¿Hace alguna confirmación y ampliación de solicitud de datos personales del cliente? | S1: 10.1 A continuación seleccione cuáles de los siguientes datos le fueron solicitados para ampliar información del proyecto: | T1: 10.1 | U1: 10.2 | V1: 10.3 | W1: 10.4 | X1: 10.5 | Y1: 10.6 | Z1: 10.7 | AA1: 10.8 | AB1: 10.9 | AC1: 10.10 | AD1: 10.11 | AE1: 10.12 | AF1: 10.13 | AG1: 10.14 | AH1: 11¿Se realizó una indagación efectiva sobre las necesidades y características que busca en un inmueble? | AI1: 11.1 Si la respuesta es sí mencione cuales: | AJ1: 11,1 | AK1: 11,2 | AL1: 11,3 | AM1: 12 Clasificación de la compra | AN1: 12,1 | AO1: 12,2 | AP1: 12,3 | AQ1: 12,4 | AR1: 13 ¿Se presentó el proyecto de forma clara y detallada? | AS1: 13.1 Si la respuesta es Sí, De las siguientes opciones indique que se le informo. | AT1: 13,1 | AU1: 13,2 | AV1: 13,3 | AW1: 13,4 | AX1: 13,5 | AY1: 13,6 | AZ1: 13,7 | BA1: 13,8 | BB1: 13,9 | BC1: 13,10 | BD1: 14¿Se utilizaron herramientas visuales (modelo, maqueta, realidad aumentada) para la presentación? | BE1: 15 ¿El asesor demuestra habilidades persuasivas que influyen en los clientes para que continúen con el proceso de compra? | BF1: 16 ¿Se solicitó la documentación necesaria para la gestión del crédito? | BG1: 16,1 Busca la viabilidad inmediata del crédito. Se deben solicitar los documentos necesarios para obtener la aprobación del crédito. | BH1: 17¿Se acompañó al cliente al asesor del banco si estuvo presente? | BI1: 18¿Se despidió al cliente de manera cordial y profesional? | BJ1: 19¿Recibió un resumen de la visita? | BK1: 20 Si la respuesta es sí, mencione en qué periodo de tiempo posterior a la visita se hizo | BL1: 21 ¿El asesor se mantiene en contacto visual con el cliente? | BM1: 22 ¿Se mostró una actitud positiva y resolutiva durante la atención? | BN1: 23 ¿Se ofreció alguna bebida al cliente durante la atención? | BO1: 24¿Recibió un contacto de seguimiento? | BP1: 24.1 ¿Si la respuesta es sí, mencione en qué periodo de tiempo posterior a la visita se hizo contacto para seguimiento de parte del asesor? | BQ1: CES – Aplica únicamente para Virtuales. En una escala de 1 a 5 que tanto esfuerzo le genera el contacto con la constructora y/o proyecto, siendo 1 muy poco esfuerzo y 5 muy alto esfuerzo. | BR1: INS - En una escala de 1 a 10 qué tan satisfecho está con el servicio recibido por el personal de la constructora y/o proyecto siendo 1 Muy insatisfecho y 10 Satisfecho. | BS1: NPS - En una escala del 0 al 10, ¿Qué tan probable es que recomiende a Constructora Bolívar a un amigo o familiar?" | BT1: ¿Qué aspectos destacan de la atención brindada? | BU1: ¿Hay algo que considere que se podría mejorar?
A2: Bolívar | B2: Constructora Bolívar | C2: Sala Virtual | D2: Catania | E2: Natalia Marin | F2: Cali | G2: NO VIS | H2: WhatsApp | I2: Si | J2: Si | K2: N/A (WhatsApp - Telefónico) | L2: Si | M2: N/A (WhatsApp - Telefónico) | N2: No | P2: No | Q2: No | R2: No | AH2: No | AM2: Para vivir | AN2: Fecha de entrega requerida | AR2: Si | AS2: Tipo de proyecto.;Generalidades sobre ubicación (Calle, carrera, entorno cercano "Comercio, colegios, conveniencia, salud" y facilidad de acceso). | AT2: Tipo de proyecto. | AU2: Generalidades sobre ubicación (Calle, carrera, entorno cercano "Comercio, colegios, conveniencia, salud" y facilidad de acceso). | BD2: No | BE2: No | BF2: No | BG2: No | BI2: No | BL2: No | BM2: No | BO2: Si | BP2: 3-5 días | BQ2: 3 | BR2: 7 | BS2: 7 | BT2: Se ofrecieron diversas alternativas de proyectos, adaptadas a las necesidades y objetivos específicos del cliente. Cada opción fue explicada detalladamente, resaltando sus ventajas y características. | BU2: No hace mayor cantidad de preguntas, todo lo hace el usuario.
A3: Bolívar | B3: Constructora Bolívar | C3: Sala Virtual | D3: Chipichape Living | E3: Lizeth Dahyana Torres | F3: Cali | G3: NO VIS | H3: WhatsApp | I3: Si | J3: Si | K3: N/A (WhatsApp - Telefónico) | L3: Si | M3: N/A (WhatsApp - Telefónico) | N3: No | P3: Si | Q3: Si | R3: Si | S3: Salario / Ingresos mensuales;Nombre completo;Zona de interés;Presupuesto para la compra | T3: Salario / Ingresos mensuales | U3: Nombre completo | V3: Zona de interés | W3: Presupuesto para la compra | AH3: No | AM3: Para Inversión | AN3: Fecha de entrega requerida | AR3: No | BD3: No | BE3: Si | BF3: Si | BG3: No | BI3: No | BL3: No | BM3: No | BO3: Si | BP3: 3-5 días | BQ3: 3 | BR3: 7 | BS3: 7 | BT3: Se ofrecieron diversas alternativas de proyectos, adaptadas a las necesidades y objetivos específicos del cliente | BU3: No se profundiza en la necesidad del usuario es más importante el crédito.
A4: Bolívar | B4: Constructora Bolívar | C4: Sala Virtual | D4: Arbopance | E4: Lina Montoya | F4: Cali | G4: VIS | H4: WhatsApp | I4: Si | J4: Si | K4: N/A (WhatsApp - Telefónico) | L4: Si | M4: N/A (WhatsApp - Telefónico) | N4: No | P4: No | Q4: Si | R4: Si | S4: Zona de interés | T4: Zona de interés | AH4: No | AM4: Para Inversión | AN4: ¿Quiénes van a vivir en el inmueble? | AR4: No | BD4: No | BE4: No | BF4: No | BG4: No | BI4: No | BL4: Si | BM4: No | BO4: Si | BP4: 3-5 días | BQ4: 3 | BR4: 8 | BS4: 7 | BT4: Ninguno. | BU4: Ninguna
A5: Bolívar | B5: Constructora Bolívar | C5: Sala Virtual | D5: LeParc29 | E5: Andrés Felipe Garcia | F5: Cali | G5: NO VIS | H5: WhatsApp | I5: Si | J5: Si | K5: N/A (WhatsApp - Telefónico) | L5: Si | M5: N/A (WhatsApp - Telefónico) | N5: Si | O5: Me alegra saludarle como se encuentra | P5: Si | Q5: Si | R5: Si | S5: Zona de interés;Salario / Ingresos mensuales;Proyecto de interés;La compra seria para vivienda o inversión;Presupuesto para la compra;Desea compra con subsidio de vivienda | T5: Zona de interés | U5: Salario / Ingresos mensuales | V5: Proyecto de interés | W5: La compra seria para vivienda o inversión | X5: Presupuesto para la compra | Y5: Desea compra con subsidio de vivienda | AH5: Si | AI5: ¿Qué lo motiva a comprar vivienda en esa zona?;¿Qué le llamó la atención del proyecto o cuál es el atributo que más le gusta de este? | AJ5: ¿Qué lo motiva a comprar vivienda en esa zona? | AK5: ¿Qué le llamó la atención del proyecto o cuál es el atributo que más le gusta de este? | AM5: Para Inversión | AN5: Fecha de entrega requerida | AR5: Si | AS5: Tipo de vivienda por etapa (vis, no vis, vip).;Tipo de proyecto.;Tipos de apto.;Zonas comunes.;Generalidades sobre ubicación (Calle, carrera, entorno cercano "Comercio, colegios, conveniencia, salud" y facilidad de acceso).;Destaca los beneficios del macroproyecto (si aplica). | AT5: Tipo de vivienda por etapa (vis, no vis, vip). | AU5: Tipo de proyecto. | AV5: Tipos de apto. | AW5: Zonas comunes. | AX5: Generalidades sobre ubicación (Calle, carrera, entorno cercano "Comercio, colegios, conveniencia, salud" y facilidad de acceso). | AY5: Destaca los beneficios del macroproyecto (si aplica). | BD5: Si | BE5: Si | BF5: Si | BG5: Si | BI5: No | BL5: No | BM5: Si | BO5: Si | BP5: 3-5 días | BQ5: 3 | BR5: 7 | BS5: 7 | BT5: Es amable esta atento a responder todas las preguntas. | BU5: Existió una dificultad de contacto por la diferencia horaria.
A6: Bolívar | B6: Constructora Bolívar | C6: Sala Virtual | D6: Sakura | E6: Jhoan Espinosa | F6: Cali | G6: NO VIS | H6: WhatsApp | I6: Si | J6: Si | K6: N/A (WhatsApp - Telefónico) | L6: No | M6: N/A (WhatsApp - Telefónico) | N6: No | P6: No | Q6: No | R6: Si | S6: Zona de interés;Salario / Ingresos mensuales;Proyecto de interés;La compra seria para vivienda o inversión;Actividad económica (empleado, independiente o prestador de servicios) | T6: Zona de interés | U6: Salario / Ingresos mensuales | V6: Proyecto de interés | W6: La compra seria para vivienda o inversión | X6: Actividad económica (empleado, independiente o prestador de servicios) | AH6: No | AM6: Para Inversión | AN6: ¿Quiénes van a vivir en el inmueble? | AR6: Si | AS6: Estrato.;Tipos de apto.;Zonas comunes.;Implantación (# torres, aptos por piso y parqueadero).;Generalidades sobre ubicación (Calle, carrera, entorno cercano "Comercio, colegios, conveniencia, salud" y facilidad de acceso).;Destaca los beneficios del macroproyecto (si aplica).;Aclarar la proporción de los parqueaderos en caso de ser comunes (si aplica). | AT6: Estrato. | AU6: Tipos de apto. | AV6: Zonas comunes. | AW6: Implantación (# torres, aptos por piso y parqueadero). | AX6: Generalidades sobre ubicación (Calle, carrera, entorno cercano "Comercio, colegios, conveniencia, salud" y facilidad de acceso). | AY6: Destaca los beneficios del macroproyecto (si aplica). | AZ6: Aclarar la proporción de los parqueaderos en caso de ser comunes (si aplica). | BD6: Si | BE6: No | BF6: Si | BG6: No | BI6: No | BL6: Si | BM6: Si | BO6: Si | BP6: 3-5 días | BQ6: 4 | BR6: 7 | BS6: 8 | BT6: Joan Espinosa durante la atención siempre se mantuvo muy cordial, atento a lo que siempre preguntaba y aunque respondía muy tarde por mis ocupaciones siempre estaba allí con toda la actitud, respondía a mido de ver rápido pero me enviaba muchos audios que me dificultaban escucharlo en reuniones. Pero destaco siempre su actitud y disposición | BU6: Los filtros iniciales con preguntas de perfilamiento hubiesen servido para identificar realmente que quería yo como cliente, se limito a la vaga información que le di, y enviarme mucha información difícil de consumir con todos los proyectos que tienen. Una oportunidad esta en un onepage colocar los proyectos por sector, asi ir asesorando, pero al enviarme tanta información en un solo momento es difícil. Otra cosa es que me enviaba muchos audios y no podía escucharlo si estaba en reunión, en algunos audios se escuchaba con mucha música, o comiendo cosa que no se percibía con una atención netamente profesional
A7: Habitare | B7: Competencia | C7: Habitare - Virtual | D7: Serene | E7: erson Pacheco | F7: Cali | G7: NO VIS | H7: WhatsApp | I7: Si | J7: Si | K7: N/A (WhatsApp - Telefónico) | L7: Si | M7: N/A (WhatsApp - Telefónico) | N7: No | P7: No | Q7: No | R7: No | AH7: No | AM7: Para vivir | AN7: Fecha de entrega requerida | AR7: No | BD7: Si | BE7: Si | BF7: No | BG7: No | BI7: No | BL7: Si | BM7: Si | BO7: Si | BP7: 3-5 días | BQ7: 5 | BR7: 5 | BS7: 5 | BT7: Muestra interés pen atender al usuario, | BU7: Se debe perfilar al cliente y mejorar la forma de contacto, ya que se coloca el lead pero no llaman, para lograr el contacto toco buscar en la pagina web un WhatsApp
A8: JM Inmobiliaria | B8: Competencia | C8: JM Inmobiliaria - Virtual | D8: Urban Coliving | E8: Elizabeth Joaqui | F8: Cali | G8: NO VIS | H8: WhatsApp | I8: Si | J8: Si | K8: N/A (WhatsApp - Telefónico) | L8: Si | M8: N/A (WhatsApp - Telefónico) | N8: No | P8: Si | Q8: No | R8: No | AH8: No | AM8: Para Inversión | AN8: Fecha de entrega requerida | AR8: Si | AS8: Tipo de vivienda por etapa (vis, no vis, vip).;Tipo de proyecto.;Tipos de apto.;Zonas comunes.;Generalidades sobre ubicación (Calle, carrera, entorno cercano "Comercio, colegios, conveniencia, salud" y facilidad de acceso).;Destaca los beneficios del macroproyecto (si aplica). | AT8: Tipo de vivienda por etapa (vis, no vis, vip). | AU8: Tipo de proyecto. | AV8: Tipos de apto. | AW8: Zonas comunes. | AX8: Generalidades sobre ubicación (Calle, carrera, entorno cercano "Comercio, colegios, conveniencia, salud" y facilidad de acceso). | AY8: Destaca los beneficios del macroproyecto (si aplica). | BD8: Si | BE8: Si | BF8: No | BG8: No | BI8: No | BL8: Si | BM8: Si | BO8: Si | BP8: 3-5 días | BQ8: 4 | BR8: 8 | BS8: 8 | BT8: Entrega varias alternativas de vivienda y tiene disposición de aclarar las dudas. | BU8: Es difícil el proceso de contacto ya que es largo, se fueron necesarios tres contactos para lograr hablar con la asesora.
A9: Bolívar | B9: Constructora Bolívar | C9: Sala Cerrito | D9: Arroyuelo | E9: Edwin imbachi | F9: El Cerrito (Valle) | G9: VIS | H9: Presencial | I9: Si | J9: Si | K9: Si | L9: Si | M9: Si | N9: No | P9: Si | Q9: Si | R9: Si | S9: Zona de interés;Salario / Ingresos mensuales;Nombre completo;Estado civil;Proyecto de interés;Dirección de residencia;Si sumará los ingresos de todas las personas que van a participar en la compra del inmueble, ¿En qué rango se encontraría?;La compra seria para vivienda o inversión;Presupuesto para la compra;Confirmar número de identificación del cliente;Confirmar número de teléfono actualizado del cliente;Confirmar el correo electrónico del cliente;Actividad económica (empleado, independiente o prestador de servicios);Desea compra con subsidio de vivienda; | T9: Zona de interés | U9: Salario / Ingresos mensuales | V9: Nombre completo | W9: Estado civil | X9: Proyecto de interés | Y9: Dirección de residencia | Z9: Si sumará los ingresos de todas las personas que van a participar en la compra del inmueble, ¿En qué rango se encontraría? | AA9: La compra seria para vivienda o inversión | AB9: Presupuesto para la compra | AC9: Confirmar número de identificación del cliente | AD9: Confirmar número de teléfono actualizado del cliente | AE9: Confirmar el correo electrónico del cliente | AF9: Actividad económica (empleado, independiente o prestador de servicios) | AG9: Desea compra con subsidio de vivienda | AH9: Si | AI9: ¿De qué características busca el apartamento? (# habitaciones, mt2, fecha de entrega) ; | AJ9: ¿De qué características busca el apartamento? (# habitaciones, mt2, fecha de entrega) | AM9: Para vivir | AN9: ¿Quiénes van a vivir en el inmueble? | AO9: ¿Qué actividades les gusta realizar? | AR9: Si | AS9: Etapas o conjuntos;Tipo de vivienda por etapa (vis, no vis, vip).;Tipo de proyecto.;Estrato.;Tipos de apto.;Zonas comunes.;Implantación (# torres, aptos por piso y parqueadero).;Generalidades sobre ubicación (Calle, carrera, entorno cercano "Comercio, colegios, conveniencia, salud" y facilidad de acceso).;Destaca los beneficios del macroproyecto (si aplica).;Aclarar la proporción de los parqueaderos en caso de ser comunes (si aplica).; | AT9: Etapas o conjuntos | AU9: Tipo de vivienda por etapa (vis, no vis, vip). | AV9: Tipo de proyecto. | AW9: Estrato. | AX9: Tipos de apto. | AY9: Zonas comunes. | AZ9: Implantación (# torres, aptos por piso y parqueadero). | BA9: Generalidades sobre ubicación (Calle, carrera, entorno cercano "Comercio, colegios, conveniencia, salud" y facilidad de acceso). | BB9: Destaca los beneficios del macroproyecto (si aplica). | BC9: Aclarar la proporción de los parqueaderos en caso de ser comunes (si aplica). | BD9: Si | BE9: Si | BF9: Si | BG9: Si | BH9: No estaba el asesor del banco | BI9: Si | BJ9: Si | BK9: Inmediato | BL9: Si | BM9: Si | BN9: Si | BO9: Si | BP9: 3-5 días | BQ9: 1 | BR9: 10 | BS9: 10 | BT9: El personal se destaca por su amabilidad y disposición para atender, además de demostrar un conocimiento profundo y detallado sobre el tema, lo que genera confianza. | BU9: Tener apartamento modelo, mejorar el recibimiento por parte del guarda de seguridad.
A10: Bolívar | B10: Constructora Bolívar | C10: Sala Vivero | D10: Sakura | E10: No sé presentó. | F10: Cali | G10: NO VIS | H10: Presencial | I10: Si | J10: No | K10: Si | L10: Si | M10: Si | N10: No | P10: Si | Q10: Si | R10: Si | S10: Zona de interés;Salario / Ingresos mensuales;Nombre completo;Estado civil;Proyecto de interés;Confirmar número de identificación del cliente;Confirmar número de teléfono actualizado del cliente;Confirmar el correo electrónico del cliente;Actividad económica (empleado, independiente o prestador de servicios) | T10: Zona de interés | U10: Salario / Ingresos mensuales | V10: Nombre completo | W10: Estado civil | X10: Proyecto de interés | Y10: Confirmar número de identificación del cliente | Z10: Confirmar número de teléfono actualizado del cliente | AA10: Confirmar el correo electrónico del cliente | AB10: Actividad económica (empleado, independiente o prestador de servicios) | AH10: No | AM10: Para vivir | AN10: Fecha de entrega requerida | AR10: Si | AS10: Etapas o conjuntos;Tipo de proyecto.;Estrato.;Zonas comunes.;Implantación (# torres, aptos por piso y parqueadero).;Generalidades sobre ubicación (Calle, carrera, entorno cercano "Comercio, colegios, conveniencia, salud" y facilidad de acceso).;Destaca los beneficios del macroproyecto (si aplica). | AT10: Etapas o conjuntos | AU10: Tipo de proyecto. | AV10: Estrato. | AW10: Zonas comunes. | AX10: Implantación (# torres, aptos por piso y parqueadero). | AY10: Generalidades sobre ubicación (Calle, carrera, entorno cercano "Comercio, colegios, conveniencia, salud" y facilidad de acceso). | AZ10: Destaca los beneficios del macroproyecto (si aplica). | BD10: Si | BE10: No | BF10: No | BG10: No | BH10: No | BI10: Si | BJ10: No | BL10: Si | BM10: No | BN10: Si | BO10: Si | BP10: 3-5 días | BQ10: 1 | BR10: 8 | BS10: 8 | BT10: Explican cada detalle del proyecto con gran claridad, lo que facilita la comprensión y asegura que todas las partes estén alineadas y satisfechas. | BU10: Conectar mejor con el cliente, reforzar un trato cercano, generando un ambiente de confianza.
A11: Bolívar | B11: Constructora Bolívar | C11: Sala Vivero | D11: Pomelos | E11: Paula. Bastidas | F11: Cali | G11: NO VIS | H11: Presencial | I11: Si | J11: No | K11: Si | L11: No | M11: No | N11: No | P11: No | Q11: No | R11: Si | S11: Proyecto de interés;Presupuesto para la compra;Confirmar número de identificación del cliente;Actividad económica (empleado, independiente o prestador de servicios) | T11: Proyecto de interés | U11: Presupuesto para la compra | V11: Confirmar número de identificación del cliente | W11: Actividad económica (empleado, independiente o prestador de servicios) | AH11: No | AM11: Para vivir | AN11: Fecha de entrega requerida | AR11: No | BD11: Si | BE11: No | BF11: Si | BG11: No | BH11: No estaba el asesor del banco | BI11: Si | BJ11: No | BL11: Si | BM11: Si | BN11: No | BO11: No | BQ11: 1 | BR11: 5 | BS11: 4 | BT11: Se percibe un lugar con diseño armonioso, junto con la atención a los pequeños detalles, invita a disfrutar de una experiencia única y cómoda que se adapta perfecta me. | BU11: No muestra el apartamento modelo
A12: Bolívar | B12: Constructora Bolívar | C12: Sala Armenia | D12: Ejereal | E12: Stephanie Rodríguez | F12: Armenia | G12: VIS | H12: Presencial | I12: Si | J12: No | K12: Si | L12: Si | M12: Si | N12: No | P12: No | Q12: No | R12: Si | S12: Salario / Ingresos mensuales;Nombre completo;Estado civil;Proyecto de interés;Confirmar número de identificación del cliente;Confirmar número de teléfono actualizado del cliente;Confirmar el correo electrónico del cliente;Actividad económica (empleado, independiente o prestador de servicios);Desea compra con subsidio de vivienda;Todas estas preguntas de sondeo no fueron realizadas para ampliar informacion del proyecto, solo fue al final cuando tomo mis datos para enviar información del proyecto que ya había explicado | T12: Salario / Ingresos mensuales | U12: Nombre completo | V12: Estado civil | W12: Proyecto de interés | X12: Confirmar número de identificación del cliente | Y12: Confirmar número de teléfono actualizado del cliente | Z12: Confirmar el correo electrónico del cliente | AA12: Actividad económica (empleado, independiente o prestador de servicios) | AB12: Desea compra con subsidio de vivienda | AC12: Todas estas preguntas de sondeo no fueron realizadas para ampliar informacion del proyecto, solo fue al final cuando tomo mis datos para enviar información del proyecto que ya había explicado | AH12: No | AM12: Para vivir | AN12: Fecha de entrega requerida | AR12: Si | AS12: Etapas o conjuntos;Tipo de vivienda por etapa (vis, no vis, vip).;Tipo de proyecto.;Tipos de apto.;Zonas comunes.;Implantación (# torres, aptos por piso y parqueadero).;Destaca los beneficios del macroproyecto (si aplica).;Aclarar la proporción de los parqueaderos en caso de ser comunes (si aplica). | AT12: Etapas o conjuntos | AU12: Tipo de vivienda por etapa (vis, no vis, vip). | AV12: Tipo de proyecto. | AW12: Tipos de apto. | AX12: Zonas comunes. | AY12: Implantación (# torres, aptos por piso y parqueadero). | AZ12: Destaca los beneficios del macroproyecto (si aplica). | BA12: Aclarar la proporción de los parqueaderos en caso de ser comunes (si aplica). | BD12: Si | BE12: No | BF12: No | BG12: No | BH12: No | BI12: Si | BJ12: Si | BK12: Inmediato | BL12: Si | BM12: No | BN12: Si | BO12: Si | BP12: 6-10 días | BQ12: 3 | BR12: 8 | BS12: 8 | BT12: Destacan por su amabilidad y disposición para atender, acompañado de un conocimiento profundo y completo sobre el tema. Responden de manera precisa y acertada a cada inquietud planteada, transmitiendo confianza y asegurando que todas las dudas sean resueltas con claridad. | BU12: Faltaría indagación de mis necesidades, hobbis, necesidades que me llevan a comprar una vivienda, indagación de quien me acompaña en este sueño de tener vivienda propia como por ejemplo si tengo pareja, padres, mascota, hijos, et.
A13: Bolívar | B13: Constructora Bolívar | C13: Sala Leparc29 | D13: Loto | E13: Adriana Ospina | F13: Cali | G13: NO VIS | H13: Presencial | I13: Si | J13: Si | K13: Si | L13: Si | M13: Si | N13: No | P13: Si | Q13: Si | R13: Si | S13: Zona de interés;Nombre completo;Proyecto de interés;Confirmar número de identificación del cliente;Confirmar número de teléfono actualizado del cliente;Confirmar el correo electrónico del cliente;Actividad económica (empleado, independiente o prestador de servicios) | T13: Zona de interés | U13: Nombre completo | V13: Proyecto de interés | W13: Confirmar número de identificación del cliente | X13: Confirmar número de teléfono actualizado del cliente | Y13: Confirmar el correo electrónico del cliente | Z13: Actividad económica (empleado, independiente o prestador de servicios) | AH13: No | AM13: Para vivir | AN13: Fecha de entrega requerida | AR13: Si | AS13: Etapas o conjuntos;Tipo de vivienda por etapa (vis, no vis, vip).;Tipo de proyecto.;Zonas comunes.;Generalidades sobre ubicación (Calle, carrera, entorno cercano "Comercio, colegios, conveniencia, salud" y facilidad de acceso).;Destaca los beneficios del macroproyecto (si aplica). | AT13: Etapas o conjuntos | AU13: Tipo de vivienda por etapa (vis, no vis, vip). | AV13: Tipo de proyecto. | AW13: Zonas comunes. | AX13: Generalidades sobre ubicación (Calle, carrera, entorno cercano "Comercio, colegios, conveniencia, salud" y facilidad de acceso). | AY13: Destaca los beneficios del macroproyecto (si aplica). | BD13: Si | BE13: Si | BF13: Si | BG13: Si | BH13: No | BI13: Si | BJ13: Si | BK13: Inmediato | BL13: No | BM13: Si | BN13: Si | BO13: No | BQ13: 1 | BR13: 5 | BS13: 5 | BT13: El personal destaca por su cortesía. | BU13: Ampliar sobre lo que requiere el cliente, se quedan con la información básica.
A14: Bolívar | B14: Constructora Bolívar | C14: Sala Armenia | D14: Solterra | E14: Cristian | F14: Armenia | G14: VIS | H14: Presencial | I14: Si | J14: Si | K14: Si | L14: No | M14: Si | N14: Si | O14: Como ha estado? Me alegra, mi nombre es Cristian y cuénteme en que le puedo colaborar | P14: Si | Q14: No | R14: Si | S14: Nombre completo;Proyecto de interés;Confirmar número de teléfono actualizado del cliente;Desea compra con subsidio de vivienda | T14: Nombre completo | U14: Proyecto de interés | V14: Confirmar número de teléfono actualizado del cliente | W14: Desea compra con subsidio de vivienda | AH14: No | AM14: Para vivir | AN14: Fecha de entrega requerida | AR14: Si | AS14: Etapas o conjuntos;Tipo de vivienda por etapa (vis, no vis, vip).;Tipo de proyecto.;Estrato.;Tipos de apto.;Zonas comunes.;Implantación (# torres, aptos por piso y parqueadero).;Aclarar la proporción de los parqueaderos en caso de ser comunes (si aplica). | AT14: Etapas o conjuntos | AU14: Tipo de vivienda por etapa (vis, no vis, vip). | AV14: Tipo de proyecto. | AW14: Estrato. | AX14: Tipos de apto. | AY14: Zonas comunes. | AZ14: Implantación (# torres, aptos por piso y parqueadero). | BA14: Aclarar la proporción de los parqueaderos en caso de ser comunes (si aplica). | BD14: Si | BE14: No | BF14: No | BG14: No | BH14: No | BI14: Si | BJ14: Si | BK14: Inmediato | BL14: Si | BM14: No | BN14: Si | BO14: Si | BP14: 6-10 días | BQ14: 1 | BR14: 8 | BS14: 10 | BT14: Recibí una atención amable y ágil. La persona que me atendió me proporcionó toda la información necesaria, demostrando un amplio conocimiento, y siempre se mantuvo contacto visual, acompañándolo con una sonrisa. | BU14: Deben ofrecer algo de beber, no hace preguntas para identificar mis gustos, mis necesidades y entorno, para hacer una conexión mas cercana a mis intereses. En algunos puntos siento que no tenia todo el conocimiento y me dijo que seria contactado por una asesora que maneja mas la información.
A15: Bolívar | B15: Constructora Bolívar | C15: Sala Parque Natura | D15: Solé | E15: Juan Esteban vargas | F15: Jamundí | G15: NO VIS | H15: Presencial | I15: Si | J15: No | K15: Si | L15: No | M15: No | N15: Si | O15: Cómo se encuentra el día de hoy. Me encanta que se encuentre bien;Agradece, felicita y se conecta con el cliente a través de frases que hagan sentir al cliente, importante, admirado y que cuenta con respaldo. | P15: Si | Q15: No | R15: Si | S15: Zona de interés;Salario / Ingresos mensuales;Nombre completo;Estado civil;Proyecto de interés;La compra seria para vivienda o inversión;Presupuesto para la compra;Confirmar número de identificación del cliente;Confirmar número de teléfono actualizado del cliente;Confirmar el correo electrónico del cliente;Actividad económica (empleado, independiente o prestador de servicios) | T15: Zona de interés | U15: Salario / Ingresos mensuales | V15: Nombre completo | W15: Estado civil | X15: Proyecto de interés | Y15: La compra seria para vivienda o inversión | Z15: Presupuesto para la compra | AA15: Confirmar número de identificación del cliente | AB15: Confirmar número de teléfono actualizado del cliente | AC15: Confirmar el correo electrónico del cliente | AD15: Actividad económica (empleado, independiente o prestador de servicios) | AH15: Si | AI15: ¿De qué características busca el apartamento? (# habitaciones, mt2, fecha de entrega) ;¿Qué lo motiva a comprar vivienda en esa zona?;¿Qué le llamó la atención del proyecto o cuál es el atributo que más le gusta de este? | AJ15: ¿De qué características busca el apartamento? (# habitaciones, mt2, fecha de entrega) | AK15: ¿Qué lo motiva a comprar vivienda en esa zona? | AL15: ¿Qué le llamó la atención del proyecto o cuál es el atributo que más le gusta de este? | AM15: Para vivir | AN15: ¿Quiénes van a vivir en el inmueble? | AO15: ¿Tiene hijos? ¿Edades? ¿hombres, mujeres? | AP15: ¿Hace cuanto está buscando vivienda? | AQ15: ¿Tiene mascotas? | AR15: Si | AS15: Etapas o conjuntos;Tipo de vivienda por etapa (vis, no vis, vip).;Tipo de proyecto.;Estrato.;Tipos de apto.;Zonas comunes.;Implantación (# torres, aptos por piso y parqueadero).;Generalidades sobre ubicación (Calle, carrera, entorno cercano "Comercio, colegios, conveniencia, salud" y facilidad de acceso).;Destaca los beneficios del macroproyecto (si aplica).;Aclarar la proporción de los parqueaderos en caso de ser comunes (si aplica). | AT15: Etapas o conjuntos | AU15: Tipo de vivienda por etapa (vis, no vis, vip). | AV15: Tipo de proyecto. | AW15: Estrato. | AX15: Tipos de apto. | AY15: Zonas comunes. | AZ15: Implantación (# torres, aptos por piso y parqueadero). | BA15: Generalidades sobre ubicación (Calle, carrera, entorno cercano "Comercio, colegios, conveniencia, salud" y facilidad de acceso). | BB15: Destaca los beneficios del macroproyecto (si aplica). | BC15: Aclarar la proporción de los parqueaderos en caso de ser comunes (si aplica). | BD15: Si | BE15: Si | BF15: Si | BG15: Si | BH15: No | BI15: Si | BJ15: Si | BK15: Inmediato | BL15: Si | BM15: Si | BN15: Si | BO15: Si | BP15: 6-10 días | BQ15: 1 | BR15: 10 | BS15: 10 | BT15: Gestionan el proyecto de manera excelente y el asesor es muy atento. | BU15: Sería bueno obtener un recordatorio de la visita, un calendario, agenda o algo que recuerde la experiencia.
A16: Bolívar | B16: Constructora Bolívar | C16: Sala Leparc29 | D16: LeParc29 | E16: Juan Vargas | F16: Cali | G16: NO VIS | H16: Presencial | I16: Si | J16: Si | K16: Si | L16: Si | M16: Si | N16: No | P16: Si | Q16: No | R16: Si | S16: Zona de interés;Salario / Ingresos mensuales;Nombre completo;Dirección de residencia;Proyecto de interés;Si sumará los ingresos de todas las personas que van a participar en la compra del inmueble, ¿En qué rango se encontraría?;La compra seria para vivienda o inversión;Presupuesto para la compra;Confirmar número de identificación del cliente;Confirmar número de teléfono actualizado del cliente;Confirmar el correo electrónico del cliente;Actividad económica (empleado, independiente o prestador de servicios);Desea compra con subsidio de vivienda;Estado civil | T16: Zona de interés | U16: Salario / Ingresos mensuales | V16: Nombre completo | W16: Dirección de residencia | X16: Proyecto de interés | Y16: Si sumará los ingresos de todas las personas que van a participar en la compra del inmueble, ¿En qué rango se encontraría? | Z16: La compra seria para vivienda o inversión | AA16: Presupuesto para la compra | AB16: Confirmar número de identificación del cliente | AC16: Confirmar número de teléfono actualizado del cliente | AD16: Confirmar el correo electrónico del cliente | AE16: Actividad económica (empleado, independiente o prestador de servicios) | AF16: Desea compra con subsidio de vivienda | AG16: Estado civil | AH16: Si | AI16: ¿De qué características busca el apartamento? (# habitaciones, mt2, fecha de entrega) ;¿Qué lo motiva a comprar vivienda en esa zona?;¿Qué le llamó la atención del proyecto o cuál es el atributo que más le gusta de este? | AJ16: ¿De qué características busca el apartamento? (# habitaciones, mt2, fecha de entrega) | AK16: ¿Qué lo motiva a comprar vivienda en esa zona? | AL16: ¿Qué le llamó la atención del proyecto o cuál es el atributo que más le gusta de este? | AM16: Para Inversión | AN16: ¿Tiene hijos? ¿Edades? ¿hombres, mujeres? | AR16: Si | AS16: Etapas o conjuntos;Tipo de vivienda por etapa (vis, no vis, vip).;Tipo de proyecto.;Tipos de apto.;Estrato.;Zonas comunes.;Implantación (# torres, aptos por piso y parqueadero).;Generalidades sobre ubicación (Calle, carrera, entorno cercano "Comercio, colegios, conveniencia, salud" y facilidad de acceso).;Destaca los beneficios del macroproyecto (si aplica).;Aclarar la proporción de los parqueaderos en caso de ser comunes (si aplica). | AT16: Etapas o conjuntos | AU16: Tipo de vivienda por etapa (vis, no vis, vip). | AV16: Tipo de proyecto. | AW16: Tipos de apto. | AX16: Estrato. | AY16: Zonas comunes. | AZ16: Implantación (# torres, aptos por piso y parqueadero). | BA16: Generalidades sobre ubicación (Calle, carrera, entorno cercano "Comercio, colegios, conveniencia, salud" y facilidad de acceso). | BB16: Destaca los beneficios del macroproyecto (si aplica). | BC16: Aclarar la proporción de los parqueaderos en caso de ser comunes (si aplica). | BD16: Si | BE16: Si | BF16: No | BG16: No | BH16: No | BI16: Si | BJ16: Si | BK16: Inmediato | BL16: Si | BM16: Si | BN16: Si | BO16: No | BQ16: 1 | BR16: 10 | BS16: 10 | BT16: La explicación fue clara y detallada, lo que facilitó la comprensión de toda la información. El asesor demostró un enfoque personalizado, buscando siempre la opción que mejor se adapte a las necesidades y preferencias del cliente. | BU16: Ninguna
A17: Bolívar | B17: Constructora Bolívar | C17: Sala Ciudad del Valle | D17: Luciérnagas | E17: Yury | F17: Candelaria | G17: VIS | H17: Presencial | I17: Si | J17: Si | K17: Si | L17: Si | M17: Si | N17: No | P17: No | Q17: Si | R17: Si | S17: Nombre completo;Salario / Ingresos mensuales;Proyecto de interés;La compra seria para vivienda o inversión;Confirmar número de identificación del cliente;Confirmar número de teléfono actualizado del cliente;Confirmar el correo electrónico del cliente | T17: Nombre completo | U17: Salario / Ingresos mensuales | V17: Proyecto de interés | W17: La compra seria para vivienda o inversión | X17: Confirmar número de identificación del cliente | Y17: Confirmar número de teléfono actualizado del cliente | Z17: Confirmar el correo electrónico del cliente | AH17: No | AM17: Para Inversión | AN17: ¿Quiénes van a vivir en el inmueble? | AR17: No | BD17: Si | BE17: No | BF17: No | BG17: No | BH17: No | BI17: Si | BJ17: No | BL17: No | BM17: No | BN17: Si | BO17: No | BQ17: 1 | BR17: 3 | BS17: 3 | BT17: Sin Comentario | BU17: Una mejor atención y mas amplia información, sin afanes.
A18: Bolívar | B18: Constructora Bolívar | C18: Sala Parque Natura | D18: Solé | E18: Juan Esteban vargas | F18: Jamundí | G18: VIS | H18: Presencial | I18: Si | J18: Si | K18: Si | L18: Si | M18: Si | N18: Si | O18: Es un gusto atenderlo(a), le doy la bienvenida a Constructora Bolívar que por más de 40 años ha logrado cumplir el sueño de 200.000 colombianos, generando nuevos hogares y oportunidades de inversión. | P18: Si | Q18: Si | R18: Si | S18: Zona de interés;Salario / Ingresos mensuales;Nombre completo;Estado civil;Proyecto de interés;La compra seria para vivienda o inversión;Presupuesto para la compra;Confirmar número de teléfono actualizado del cliente;Confirmar el correo electrónico del cliente;Actividad económica (empleado, independiente o prestador de servicios) | T18: Zona de interés | U18: Salario / Ingresos mensuales | V18: Nombre completo | W18: Estado civil | X18: Proyecto de interés | Y18: La compra seria para vivienda o inversión | Z18: Presupuesto para la compra | AA18: Confirmar número de teléfono actualizado del cliente | AB18: Confirmar el correo electrónico del cliente | AC18: Actividad económica (empleado, independiente o prestador de servicios) | AH18: Si | AI18: ¿Qué le llamó la atención del proyecto o cuál es el atributo que más le gusta de este? | AJ18: ¿Qué le llamó la atención del proyecto o cuál es el atributo que más le gusta de este? | AM18: Para Inversión | AN18: ¿Qué actividades les gusta realizar? | AO18: Fecha de entrega requerida | AR18: Si | AS18: Etapas o conjuntos;Tipo de vivienda por etapa (vis, no vis, vip).;Tipo de proyecto.;Estrato.;Tipos de apto.;Zonas comunes.;Implantación (# torres, aptos por piso y parqueadero).;Generalidades sobre ubicación (Calle, carrera, entorno cercano "Comercio, colegios, conveniencia, salud" y facilidad de acceso).;Destaca los beneficios del macroproyecto (si aplica).;Aclarar la proporción de los parqueaderos en caso de ser comunes (si aplica). | AT18: Etapas o conjuntos | AU18: Tipo de vivienda por etapa (vis, no vis, vip). | AV18: Tipo de proyecto. | AW18: Estrato. | AX18: Tipos de apto. | AY18: Zonas comunes. | AZ18: Implantación (# torres, aptos por piso y parqueadero). | BA18: Generalidades sobre ubicación (Calle, carrera, entorno cercano "Comercio, colegios, conveniencia, salud" y facilidad de acceso). | BB18: Destaca los beneficios del macroproyecto (si aplica). | BC18: Aclarar la proporción de los parqueaderos en caso de ser comunes (si aplica). | BD18: Si | BE18: Si | BF18: Si | BG18: Si | BH18: No | BI18: Si | BJ18: Si | BK18: 3-5 días | BL18: No | BM18: No | BN18: Si | BO18: Si | BP18: 6-10 días | BQ18: 1 | BR18: 10 | BS18: 10 | BT18: La persona transmitió una gran seguridad al hablar, demostrando confianza en su conocimiento y habilidades. Su tono de voz firme y claro reflejó certeza en la información proporcionada, lo que generó confianza y tranquilidad al cliente. | BU18: Ninguna
A19: Bolívar | B19: Constructora Bolívar | C19: Sala Encanto del valle | D19: Miretta | E19: Leidy la Torre | F19: Cali | G19: VIS | H19: Presencial | I19: Si | J19: Si | K19: Si | L19: Si | M19: Si | N19: Si | O19: Es un placer tenerlo en esta sala de ventas | P19: Si | Q19: Si | R19: Si | S19: Zona de interés;Salario / Ingresos mensuales;Nombre completo;Estado civil;Proyecto de interés;La compra seria para vivienda o inversión;Presupuesto para la compra;Confirmar número de teléfono actualizado del cliente;Confirmar el correo electrónico del cliente;Actividad económica (empleado, independiente o prestador de servicios) | T19: Zona de interés | U19: Salario / Ingresos mensuales | V19: Nombre completo | W19: Estado civil | X19: Proyecto de interés | Y19: La compra seria para vivienda o inversión | Z19: Presupuesto para la compra | AA19: Confirmar número de teléfono actualizado del cliente | AB19: Confirmar el correo electrónico del cliente | AC19: Actividad económica (empleado, independiente o prestador de servicios) | AH19: Si | AI19: ¿De qué características busca el apartamento? (# habitaciones, mt2, fecha de entrega) ;¿Qué le llamó la atención del proyecto o cuál es el atributo que más le gusta de este? | AJ19: ¿De qué características busca el apartamento? (# habitaciones, mt2, fecha de entrega) | AK19: ¿Qué le llamó la atención del proyecto o cuál es el atributo que más le gusta de este? | AM19: Para Inversión | AN19: Fecha de entrega requerida | AO19: ¿Qué actividades les gusta realizar? | AP19: ¿Qué ha evitado que tome la decisión de realizar la compra? | AR19: Si | AS19: Etapas o conjuntos;Tipo de vivienda por etapa (vis, no vis, vip).;Tipo de proyecto.;Estrato.;Tipos de apto.;Zonas comunes.;Implantación (# torres, aptos por piso y parqueadero).;Generalidades sobre ubicación (Calle, carrera, entorno cercano "Comercio, colegios, conveniencia, salud" y facilidad de acceso).;Destaca los beneficios del macroproyecto (si aplica).;Aclarar la proporción de los parqueaderos en caso de ser comunes (si aplica). | AT19: Etapas o conjuntos | AU19: Tipo de vivienda por etapa (vis, no vis, vip). | AV19: Tipo de proyecto. | AW19: Estrato. | AX19: Tipos de apto. | AY19: Zonas comunes. | AZ19: Implantación (# torres, aptos por piso y parqueadero). | BA19: Generalidades sobre ubicación (Calle, carrera, entorno cercano "Comercio, colegios, conveniencia, salud" y facilidad de acceso). | BB19: Destaca los beneficios del macroproyecto (si aplica). | BC19: Aclarar la proporción de los parqueaderos en caso de ser comunes (si aplica). | BD19: Si | BE19: Si | BF19: Si | BG19: No | BH19: Si | BI19: Si | BJ19: Si | BK19: 3-5 días | BL19: No | BM19: No | BN19: Si | BO19: Si | BP19: 6-10 días | BQ19: 1 | BR19: 10 | BS19: 10 | BT19: Siempre mantuvo una actitud positiva, mostrando entusiasmo y disposición en todo momento. Su enfoque optimista y su energía contagiosa contribuyeron a crear un ambiente agradable y motivador. | BU19: Ninguna
A20: Bolívar | B20: Constructora Bolívar | C20: Sala Ciudad del Valle | D20: Luciérnagas | E20: Martha Liliana Escobar | F20: Candelaria | G20: VIS | H20: Presencial | I20: Si | J20: No | K20: Si | L20: Si | M20: Si | N20: No | P20: No | Q20: No | R20: Si | S20: Salario / Ingresos mensuales;Nombre completo;Proyecto de interés;Si sumará los ingresos de todas las personas que van a participar en la compra del inmueble, ¿En qué rango se encontraría?;Confirmar número de teléfono actualizado del cliente;Confirmar el correo electrónico del cliente;Actividad económica (empleado, independiente o prestador de servicios) | T20: Salario / Ingresos mensuales | U20: Nombre completo | V20: Proyecto de interés | W20: Si sumará los ingresos de todas las personas que van a participar en la compra del inmueble, ¿En qué rango se encontraría? | X20: Confirmar número de teléfono actualizado del cliente | Y20: Confirmar el correo electrónico del cliente | Z20: Actividad económica (empleado, independiente o prestador de servicios) | AH20: No | AM20: Para vivir | AN20: Fecha de entrega requerida | AR20: No | BD20: Si | BE20: No | BF20: No | BG20: No | BH20: No | BI20: Si | BJ20: Si | BK20: 3-5 días | BL20: No | BM20: No | BN20: Si | BO20: Si | BP20: 6-10 días | BQ20: 1 | BR20: 5 | BS20: 5 | BT20: Fue una atención muy cortante, la señora mostraba el proyecto por medio de diapositivas pero las cuales no se veía bien, lo cual le informe y su única respuesta es que no las había descargado bien. Se notaba que quería desocuparse rápido y no fue clara con la información como si lo han hecho en otras visitas | BU20: La atención por parte de los asesores e interés
A21: Bolívar | B21: Constructora Bolívar | C21: Sala Encanto del valle | D21: Las rosas | E21: JHOAN ESPINOZA | F21: Jamundí | G21: VIS | H21: Presencial | I21: Si | J21: Si | K21: Si | L21: Si | M21: Si | N21: Si | O21: Cómo se encuentra el día de hoy. Me encanta que se encuentre bien;Gracias por venir;Agradece, felicita y se conecta con el cliente a través de frases que hagan sentir al cliente, importante, admirado y que cuenta con respaldo. | P21: Si | Q21: No | R21: Si | S21: Zona de interés;Salario / Ingresos mensuales;Nombre completo;Proyecto de interés;La compra seria para vivienda o inversión;Presupuesto para la compra;Confirmar número de identificación del cliente;Confirmar número de teléfono actualizado del cliente;Actividad económica (empleado, independiente o prestador de servicios);Confirmar el correo electrónico del cliente;Desea compra con subsidio de vivienda | T21: Zona de interés | U21: Salario / Ingresos mensuales | V21: Nombre completo | W21: Proyecto de interés | X21: La compra seria para vivienda o inversión | Y21: Presupuesto para la compra | Z21: Confirmar número de identificación del cliente | AA21: Confirmar número de teléfono actualizado del cliente | AB21: Actividad económica (empleado, independiente o prestador de servicios) | AC21: Confirmar el correo electrónico del cliente | AD21: Desea compra con subsidio de vivienda | AH21: Si | AI21: ¿De qué características busca el apartamento? (# habitaciones, mt2, fecha de entrega) ;¿Qué lo motiva a comprar vivienda en esa zona?;¿Qué le llamó la atención del proyecto o cuál es el atributo que más le gusta de este? | AJ21: ¿De qué características busca el apartamento? (# habitaciones, mt2, fecha de entrega) | AK21: ¿Qué lo motiva a comprar vivienda en esa zona? | AL21: ¿Qué le llamó la atención del proyecto o cuál es el atributo que más le gusta de este? | AM21: Para vivir | AN21: ¿Hace cuanto está buscando vivienda? | AO21: Fecha de entrega requerida | AR21: Si | AS21: Etapas o conjuntos;Tipo de vivienda por etapa (vis, no vis, vip).;Tipo de proyecto.;Estrato.;Tipos de apto.;Zonas comunes.;Implantación (# torres, aptos por piso y parqueadero).;Generalidades sobre ubicación (Calle, carrera, entorno cercano "Comercio, colegios, conveniencia, salud" y facilidad de acceso).;Destaca los beneficios del macroproyecto (si aplica).;Aclarar la proporción de los parqueaderos en caso de ser comunes (si aplica). | AT21: Etapas o conjuntos | AU21: Tipo de vivienda por etapa (vis, no vis, vip). | AV21: Tipo de proyecto. | AW21: Estrato. | AX21: Tipos de apto. | AY21: Zonas comunes. | AZ21: Implantación (# torres, aptos por piso y parqueadero). | BA21: Generalidades sobre ubicación (Calle, carrera, entorno cercano "Comercio, colegios, conveniencia, salud" y facilidad de acceso). | BB21: Destaca los beneficios del macroproyecto (si aplica). | BC21: Aclarar la proporción de los parqueaderos en caso de ser comunes (si aplica). | BD21: Si | BE21: Si | BF21: Si | BG21: Si | BH21: No estaba el asesor del banco | BI21: Si | BJ21: Si | BK21: 3-5 días | BL21: Si | BM21: No | BN21: Si | BO21: Si | BP21: 6-10 días | BQ21: 1 | BR21: 10 | BS21: 9 | BT21: La variedad de proyectos que se presentan al cliente, con diversas opciones. | BU21: La atención fue bastante cortante. La señora presentó el proyecto mediante diapositivas, pero la calidad de las imágenes no era buena.
A22: Bolívar | B22: Constructora Bolívar | C22: Sala Cerrito | D22: Entrerios | E22: Leydi Domelin | F22: El Cerrito (Valle) | G22: VIS | H22: Presencial | I22: Si | J22: No | K22: Si | L22: Si | M22: Si | N22: No | P22: Si | Q22: No | R22: Si | S22: Zona de interés;Salario / Ingresos mensuales;Nombre completo;Proyecto de interés;Si sumará los ingresos de todas las personas que van a participar en la compra del inmueble, ¿En qué rango se encontraría?;La compra seria para vivienda o inversión;Presupuesto para la compra;Confirmar número de identificación del cliente;Confirmar número de teléfono actualizado del cliente;Confirmar el correo electrónico del cliente;Actividad económica (empleado, independiente o prestador de servicios);Desea compra con subsidio de vivienda | T22: Zona de interés | U22: Salario / Ingresos mensuales | V22: Nombre completo | W22: Proyecto de interés | X22: Si sumará los ingresos de todas las personas que van a participar en la compra del inmueble, ¿En qué rango se encontraría? | Y22: La compra seria para vivienda o inversión | Z22: Presupuesto para la compra | AA22: Confirmar número de identificación del cliente | AB22: Confirmar número de teléfono actualizado del cliente | AC22: Confirmar el correo electrónico del cliente | AD22: Actividad económica (empleado, independiente o prestador de servicios) | AE22: Desea compra con subsidio de vivienda | AH22: Si | AI22: ¿Qué lo motiva a comprar vivienda en esa zona? | AJ22: ¿Qué lo motiva a comprar vivienda en esa zona? | AM22: Para vivir | AN22: Fecha de entrega requerida | AR22: Si | AS22: Etapas o conjuntos;Tipo de vivienda por etapa (vis, no vis, vip).;Tipo de proyecto.;Zonas comunes.;Destaca los beneficios del macroproyecto (si aplica).;Generalidades sobre ubicación (Calle, carrera, entorno cercano "Comercio, colegios, conveniencia, salud" y facilidad de acceso). | AT22: Etapas o conjuntos | AU22: Tipo de vivienda por etapa (vis, no vis, vip). | AV22: Tipo de proyecto. | AW22: Zonas comunes. | AX22: Destaca los beneficios del macroproyecto (si aplica). | AY22: Generalidades sobre ubicación (Calle, carrera, entorno cercano "Comercio, colegios, conveniencia, salud" y facilidad de acceso). | BD22: Si | BE22: Si | BF22: Si | BG22: Si | BH22: No estaba el asesor del banco | BI22: Si | BJ22: Si | BK22: 6-10 días | BL22: No | BM22: No | BN22: No | BO22: Si | BP22: 3-5 días | BQ22: 1 | BR22: 8 | BS22: 5 | BT22: Su forma de presentar el proyecto y aclarar dudas es excelente. | BU22: Sí, ofrecer algo de beber al cliente.
A23: Bolívar | B23: Constructora Bolívar | C23: Sala Valle del Lili | D23: Loto | E23: Vanesa Ruiz Lopez | F23: Cali | G23: VIS | H23: Presencial | I23: Si | J23: Si | K23: Si | L23: Si | M23: Si | N23: Si | O23: Es un placer para nosotros que nos visite | P23: Si | Q23: Si | R23: Si | S23: Zona de interés;Salario / Ingresos mensuales;Nombre completo;Estado civil;Proyecto de interés;Si sumará los ingresos de todas las personas que van a participar en la compra del inmueble, ¿En qué rango se encontraría?;La compra seria para vivienda o inversión;Presupuesto para la compra;Confirmar número de identificación del cliente;Confirmar número de teléfono actualizado del cliente;Confirmar el correo electrónico del cliente | T23: Zona de interés | U23: Salario / Ingresos mensuales | V23: Nombre completo | W23: Estado civil | X23: Proyecto de interés | Y23: Si sumará los ingresos de todas las personas que van a participar en la compra del inmueble, ¿En qué rango se encontraría? | Z23: La compra seria para vivienda o inversión | AA23: Presupuesto para la compra | AB23: Confirmar número de identificación del cliente | AC23: Confirmar número de teléfono actualizado del cliente | AD23: Confirmar el correo electrónico del cliente | AH23: Si | AI23: ¿De qué características busca el apartamento? (# habitaciones, mt2, fecha de entrega) | AJ23: ¿De qué características busca el apartamento? (# habitaciones, mt2, fecha de entrega) | AM23: Para vivir | AN23: Fecha de entrega requerida | AR23: Si | AS23: Tipo de proyecto.;Estrato.;Tipo de vivienda por etapa (vis, no vis, vip).;Etapas o conjuntos;Implantación (# torres, aptos por piso y parqueadero).;Tipos de apto.;Zonas comunes.;Aclarar la proporción de los parqueaderos en caso de ser comunes (si aplica).;Destaca los beneficios del macroproyecto (si aplica).;Generalidades sobre ubicación (Calle, carrera, entorno cercano "Comercio, colegios, conveniencia, salud" y facilidad de acceso). | AT23: Tipo de proyecto. | AU23: Estrato. | AV23: Tipo de vivienda por etapa (vis, no vis, vip). | AW23: Etapas o conjuntos | AX23: Implantación (# torres, aptos por piso y parqueadero). | AY23: Tipos de apto. | AZ23: Zonas comunes. | BA23: Aclarar la proporción de los parqueaderos en caso de ser comunes (si aplica). | BB23: Destaca los beneficios del macroproyecto (si aplica). | BC23: Generalidades sobre ubicación (Calle, carrera, entorno cercano "Comercio, colegios, conveniencia, salud" y facilidad de acceso). | BD23: Si | BE23: Si | BF23: No | BG23: No | BH23: No | BI23: Si | BJ23: Si | BK23: 6-10 días | BL23: Si | BM23: Si | BN23: Si | BO23: Si | BP23: 3-5 días | BQ23: 1 | BR23: 8 | BS23: 8 | BT23: El asesor muestra buen dominio del tema, resuelve las inquietudes. | BU23: Ninguna
